Package: qsvaR Version: 1.10.0 Command: /Library/Frameworks/R.framework/Resources/bin/R CMD INSTALL qsvaR StartedAt: 2025-03-31 17:23:49 -0400 (Mon, 31 Mar 2025) EndedAt: 2025-03-31 17:24:23 -0400 (Mon, 31 Mar 2025) EllapsedTime: 34.0 seconds RetCode: 0 Status: OK