Package: qsvaR Version: 1.10.0 Command: /Library/Frameworks/R.framework/Resources/bin/R CMD check --install=check:qsvaR.install-out.txt --library=/Library/Frameworks/R.framework/Resources/library --no-vignettes --timings qsvaR_1.10.0.tar.gz StartedAt: 2025-04-02 05:11:58 -0400 (Wed, 02 Apr 2025) EndedAt: 2025-04-02 05:16:19 -0400 (Wed, 02 Apr 2025) EllapsedTime: 261.3 seconds RetCode: 0 Status: OK CheckDir: qsvaR.Rcheck Warnings: 0