Package: qsvaR Version: 1.10.0 Command: /Library/Frameworks/R.framework/Resources/bin/R CMD build --keep-empty-dirs --no-resave-data qsvaR StartedAt: 2025-04-01 05:36:08 -0400 (Tue, 01 Apr 2025) EndedAt: 2025-04-01 05:53:58 -0400 (Tue, 01 Apr 2025) EllapsedTime: 1070.2 seconds RetCode: 0 Status: OK PackageFile: qsvaR_1.10.0.tar.gz PackageFileSize: 3.489 MiB