Package: qsvaR Version: 1.10.0 Command: rm -rf qsvaR.buildbin-libdir && mkdir qsvaR.buildbin-libdir && /Users/biocbuild/BBS/utils/build-universal.sh qsvaR_1.10.0.tar.gz /Library/Frameworks/R.framework/Resources/bin/R qsvaR.buildbin-libdir StartedAt: 2025-04-02 15:45:49 -0400 (Wed, 02 Apr 2025) EndedAt: 2025-04-02 15:46:28 -0400 (Wed, 02 Apr 2025) EllapsedTime: 38.8 seconds RetCode: 0 Status: OK PackageFile: qsvaR_1.10.0.tgz PackageFileSize: 3.526 MiB