Package: qsmooth Version: 1.22.0 Command: /home/biocbuild/R/R/bin/R CMD check --install=check:qsmooth.install-out.txt --library=/home/biocbuild/R/R/site-library --no-vignettes --timings qsmooth_1.22.0.tar.gz StartedAt: 2025-04-01 09:42:00 -0000 (Tue, 01 Apr 2025) EndedAt: 2025-04-01 09:46:20 -0000 (Tue, 01 Apr 2025) EllapsedTime: 259.2 seconds RetCode: 0 Status: WARNINGS CheckDir: qsmooth.Rcheck Warnings: 1