Package: qsmooth Version: 1.22.0 Command: /Library/Frameworks/R.framework/Resources/bin/R CMD INSTALL qsmooth StartedAt: 2025-03-31 16:15:46 -0400 (Mon, 31 Mar 2025) EndedAt: 2025-03-31 16:16:51 -0400 (Mon, 31 Mar 2025) EllapsedTime: 65.0 seconds RetCode: 0 Status: OK