Package: qsmooth Version: 1.22.0 Command: /Library/Frameworks/R.framework/Resources/bin/R CMD check --install=check:qsmooth.install-out.txt --library=/Library/Frameworks/R.framework/Resources/library --no-vignettes --timings qsmooth_1.22.0.tar.gz StartedAt: 2025-04-02 05:11:23 -0400 (Wed, 02 Apr 2025) EndedAt: 2025-04-02 05:15:22 -0400 (Wed, 02 Apr 2025) EllapsedTime: 238.8 seconds RetCode: 0 Status: WARNINGS CheckDir: qsmooth.Rcheck Warnings: 1