Package: qsmooth Version: 1.22.0 Command: rm -rf qsmooth.buildbin-libdir && mkdir qsmooth.buildbin-libdir && /Users/biocbuild/BBS/utils/build-universal.sh qsmooth_1.22.0.tar.gz /Library/Frameworks/R.framework/Resources/bin/R qsmooth.buildbin-libdir StartedAt: 2025-04-02 15:45:26 -0400 (Wed, 02 Apr 2025) EndedAt: 2025-04-02 15:46:06 -0400 (Wed, 02 Apr 2025) EllapsedTime: 40.9 seconds RetCode: 0 Status: OK PackageFile: qsmooth_1.22.0.tgz PackageFileSize: 1.467 MiB