Package: qsea Version: 1.32.0 Command: /Library/Frameworks/R.framework/Resources/bin/R CMD build --keep-empty-dirs --no-resave-data qsea StartedAt: 2025-04-01 05:34:59 -0400 (Tue, 01 Apr 2025) EndedAt: 2025-04-01 05:36:08 -0400 (Tue, 01 Apr 2025) EllapsedTime: 68.4 seconds RetCode: 0 Status: OK PackageFile: qsea_1.32.0.tar.gz PackageFileSize: 825 KiB