Package: qpgraph Version: 2.40.0 Command: /Library/Frameworks/R.framework/Resources/bin/R CMD INSTALL qpgraph StartedAt: 2025-03-31 15:57:36 -0400 (Mon, 31 Mar 2025) EndedAt: 2025-03-31 15:58:38 -0400 (Mon, 31 Mar 2025) EllapsedTime: 62.4 seconds RetCode: 0 Status: OK