Package: qpgraph Version: 2.40.0 Command: /Library/Frameworks/R.framework/Resources/bin/R CMD build --keep-empty-dirs --no-resave-data qpgraph StartedAt: 2025-04-01 05:34:26 -0400 (Tue, 01 Apr 2025) EndedAt: 2025-04-01 05:36:54 -0400 (Tue, 01 Apr 2025) EllapsedTime: 148.0 seconds RetCode: 0 Status: OK PackageFile: qpgraph_2.40.0.tar.gz PackageFileSize: 2.702 MiB