Package: qpcrNorm Version: 1.64.0 Command: F:\biocbuild\bbs-3.20-bioc\R\bin\R.exe CMD INSTALL qpcrNorm StartedAt: 2025-03-31 15:28:41 -0400 (Mon, 31 Mar 2025) EndedAt: 2025-03-31 15:28:55 -0400 (Mon, 31 Mar 2025) EllapsedTime: 13.9 seconds RetCode: 0 Status: OK