Package: qpcrNorm Version: 1.64.0 Command: chmod a+r qpcrNorm -R && F:\biocbuild\bbs-3.20-bioc\R\bin\R.exe CMD build --keep-empty-dirs --no-resave-data qpcrNorm StartedAt: 2025-03-31 21:12:38 -0400 (Mon, 31 Mar 2025) EndedAt: 2025-03-31 21:12:55 -0400 (Mon, 31 Mar 2025) EllapsedTime: 16.8 seconds RetCode: 0 Status: OK PackageFile: qpcrNorm_1.64.0.tar.gz PackageFileSize: 476.7 KiB