Package: qpcrNorm Version: 1.64.0 Command: /Library/Frameworks/R.framework/Resources/bin/R CMD INSTALL qpcrNorm StartedAt: 2025-03-31 15:13:01 -0400 (Mon, 31 Mar 2025) EndedAt: 2025-03-31 15:13:06 -0400 (Mon, 31 Mar 2025) EllapsedTime: 4.7 seconds RetCode: 0 Status: OK