Package: qpcrNorm Version: 1.64.0 Command: /Library/Frameworks/R.framework/Resources/bin/R CMD build --keep-empty-dirs --no-resave-data qpcrNorm StartedAt: 2025-04-01 05:34:13 -0400 (Tue, 01 Apr 2025) EndedAt: 2025-04-01 05:34:26 -0400 (Tue, 01 Apr 2025) EllapsedTime: 13.5 seconds RetCode: 0 Status: OK PackageFile: qpcrNorm_1.64.0.tar.gz PackageFileSize: 549.1 KiB