Package: qpcrNorm Version: 1.64.0 Command: rm -rf qpcrNorm.buildbin-libdir && mkdir qpcrNorm.buildbin-libdir && /Users/biocbuild/BBS/utils/build-universal.sh qpcrNorm_1.64.0.tar.gz /Library/Frameworks/R.framework/Resources/bin/R qpcrNorm.buildbin-libdir StartedAt: 2025-04-02 15:45:12 -0400 (Wed, 02 Apr 2025) EndedAt: 2025-04-02 15:45:19 -0400 (Wed, 02 Apr 2025) EllapsedTime: 6.8 seconds RetCode: 0 Status: OK PackageFile: qpcrNorm_1.64.0.tgz PackageFileSize: 598.7 KiB