Package: qcmetrics Version: 1.44.0 Command: F:\biocbuild\bbs-3.20-bioc\R\bin\R.exe CMD check --no-multiarch --install=check:qcmetrics.install-out.txt --library=F:\biocbuild\bbs-3.20-bioc\R\library --no-vignettes --timings qcmetrics_1.44.0.tar.gz StartedAt: 2025-04-01 04:51:14 -0400 (Tue, 01 Apr 2025) EndedAt: 2025-04-01 04:52:50 -0400 (Tue, 01 Apr 2025) EllapsedTime: 95.9 seconds RetCode: 0 Status: OK CheckDir: qcmetrics.Rcheck Warnings: 0