Package: qcmetrics Version: 1.44.0 Command: rm -rf qcmetrics.buildbin-libdir && mkdir qcmetrics.buildbin-libdir && F:\biocbuild\bbs-3.20-bioc\R\bin\R.exe CMD INSTALL --build --library=qcmetrics.buildbin-libdir qcmetrics_1.44.0.tar.gz StartedAt: 2025-04-01 08:55:53 -0400 (Tue, 01 Apr 2025) EndedAt: 2025-04-01 08:56:33 -0400 (Tue, 01 Apr 2025) EllapsedTime: 40.7 seconds RetCode: 0 Status: OK PackageFile: qcmetrics_1.44.0.zip PackageFileSize: 4.072 MiB