Package: qPLEXanalyzer Version: 1.24.0 Command: rm -rf qPLEXanalyzer.buildbin-libdir && mkdir qPLEXanalyzer.buildbin-libdir && /Users/biocbuild/BBS/utils/build-universal.sh qPLEXanalyzer_1.24.0.tar.gz /Library/Frameworks/R.framework/Resources/bin/R qPLEXanalyzer.buildbin-libdir StartedAt: 2025-04-01 12:30:43 -0400 (Tue, 01 Apr 2025) EndedAt: 2025-04-01 12:32:06 -0400 (Tue, 01 Apr 2025) EllapsedTime: 83.2 seconds RetCode: 0 Status: OK PackageFile: qPLEXanalyzer_1.24.0.tgz PackageFileSize: 3.736 MiB