Package: pwalign Version: 1.2.0 Command: /Library/Frameworks/R.framework/Resources/bin/R CMD build --keep-empty-dirs --no-resave-data pwalign StartedAt: 2025-03-31 21:10:47 -0400 (Mon, 31 Mar 2025) EndedAt: 2025-03-31 21:12:44 -0400 (Mon, 31 Mar 2025) EllapsedTime: 117.0 seconds RetCode: 0 Status: OK PackageFile: pwalign_1.2.0.tar.gz PackageFileSize: 346.2 KiB