Package: pvac Version: 1.54.0 Command: F:\biocbuild\bbs-3.20-bioc\R\bin\R.exe CMD check --no-multiarch --install=check:pvac.install-out.txt --library=F:\biocbuild\bbs-3.20-bioc\R\library --no-vignettes --timings pvac_1.54.0.tar.gz StartedAt: 2025-04-01 04:49:58 -0400 (Tue, 01 Apr 2025) EndedAt: 2025-04-01 04:50:49 -0400 (Tue, 01 Apr 2025) EllapsedTime: 51.8 seconds RetCode: 0 Status: OK CheckDir: pvac.Rcheck Warnings: 0