Package: pvac Version: 1.54.0 Command: /home/biocbuild/bbs-3.20-bioc/R/bin/R CMD check --install=check:pvac.install-out.txt --library=/home/biocbuild/bbs-3.20-bioc/R/site-library --timings pvac_1.54.0.tar.gz StartedAt: 2025-04-01 01:11:44 -0400 (Tue, 01 Apr 2025) EndedAt: 2025-04-01 01:13:27 -0400 (Tue, 01 Apr 2025) EllapsedTime: 103.1 seconds RetCode: 0 Status: OK CheckDir: pvac.Rcheck Warnings: 0