Package: pvac Version: 1.54.0 Command: /Library/Frameworks/R.framework/Resources/bin/R CMD check --install=check:pvac.install-out.txt --library=/Library/Frameworks/R.framework/Resources/library --no-vignettes --timings pvac_1.54.0.tar.gz StartedAt: 2024-11-09 10:20:30 -0500 (Sat, 09 Nov 2024) EndedAt: 2024-11-09 10:24:29 -0500 (Sat, 09 Nov 2024) EllapsedTime: 238.3 seconds RetCode: 0 Status: OK CheckDir: pvac.Rcheck Warnings: 0