Package: puma Version: 3.48.0 Command: chmod a+r puma -R && F:\biocbuild\bbs-3.20-bioc\R\bin\R.exe CMD build --keep-empty-dirs --no-resave-data puma StartedAt: 2025-03-31 21:10:48 -0400 (Mon, 31 Mar 2025) EndedAt: 2025-03-31 21:13:14 -0400 (Mon, 31 Mar 2025) EllapsedTime: 145.9 seconds RetCode: 0 Status: OK PackageFile: puma_3.48.0.tar.gz PackageFileSize: 3.251 MiB