Package: puma Version: 3.48.0 Command: /Library/Frameworks/R.framework/Resources/bin/R CMD build --keep-empty-dirs --no-resave-data puma StartedAt: 2025-03-31 21:09:47 -0400 (Mon, 31 Mar 2025) EndedAt: 2025-03-31 21:13:04 -0400 (Mon, 31 Mar 2025) EllapsedTime: 197.0 seconds RetCode: 0 Status: OK PackageFile: puma_3.48.0.tar.gz PackageFileSize: 3.405 MiB