Package: ptairMS Version: 1.14.0 Command: /home/biocbuild/R/R/bin/R CMD INSTALL ptairMS StartedAt: 2025-03-31 21:08:56 -0000 (Mon, 31 Mar 2025) EndedAt: 2025-03-31 21:09:25 -0000 (Mon, 31 Mar 2025) EllapsedTime: 28.9 seconds RetCode: 0 Status: OK