Package: ptairMS Version: 1.14.0 Command: /home/biocbuild/R/R/bin/R CMD build --keep-empty-dirs --no-resave-data ptairMS StartedAt: 2025-04-01 01:44:19 -0000 (Tue, 01 Apr 2025) EndedAt: 2025-04-01 01:48:21 -0000 (Tue, 01 Apr 2025) EllapsedTime: 242.1 seconds RetCode: 0 Status: OK PackageFile: ptairMS_1.14.0.tar.gz PackageFileSize: 2.385 MiB