Package: ptairMS Version: 1.14.0 Command: /Library/Frameworks/R.framework/Resources/bin/R CMD build --keep-empty-dirs --no-resave-data ptairMS StartedAt: 2025-03-31 21:09:42 -0400 (Mon, 31 Mar 2025) EndedAt: 2025-03-31 21:16:09 -0400 (Mon, 31 Mar 2025) EllapsedTime: 387.2 seconds RetCode: 0 Status: OK PackageFile: ptairMS_1.14.0.tar.gz PackageFileSize: 3.356 MiB