Package: psygenet2r Version: 1.38.0 Command: /Library/Frameworks/R.framework/Resources/bin/R CMD INSTALL psygenet2r StartedAt: 2025-03-31 16:30:13 -0400 (Mon, 31 Mar 2025) EndedAt: 2025-03-31 16:30:28 -0400 (Mon, 31 Mar 2025) EllapsedTime: 14.8 seconds RetCode: 0 Status: OK