Package: psichomics Version: 1.32.0 Command: /home/biocbuild/R/R/bin/R CMD check --install=check:psichomics.install-out.txt --library=/home/biocbuild/R/R/site-library --no-vignettes --timings psichomics_1.32.0.tar.gz StartedAt: 2025-04-01 09:38:10 -0000 (Tue, 01 Apr 2025) EndedAt: 2025-04-01 09:48:09 -0000 (Tue, 01 Apr 2025) EllapsedTime: 598.7 seconds RetCode: 0 Status: OK CheckDir: psichomics.Rcheck Warnings: 0