Package: proteinProfiles Version: 1.46.0 Command: /home/biocbuild/R/R/bin/R CMD check --install=check:proteinProfiles.install-out.txt --library=/home/biocbuild/R/R/site-library --no-vignettes --timings proteinProfiles_1.46.0.tar.gz StartedAt: 2025-04-01 09:36:53 -0000 (Tue, 01 Apr 2025) EndedAt: 2025-04-01 09:37:14 -0000 (Tue, 01 Apr 2025) EllapsedTime: 21.0 seconds RetCode: 0 Status: OK CheckDir: proteinProfiles.Rcheck Warnings: 0