Package: protGear Version: 1.10.0 Command: /home/biocbuild/R/R/bin/R CMD INSTALL protGear StartedAt: 2025-03-31 21:10:25 -0000 (Mon, 31 Mar 2025) EndedAt: 2025-03-31 21:10:57 -0000 (Mon, 31 Mar 2025) EllapsedTime: 32.8 seconds RetCode: 0 Status: OK