Package: protGear Version: 1.10.0 Command: /home/biocbuild/bbs-3.20-bioc/R/bin/R CMD INSTALL protGear StartedAt: 2025-03-31 16:00:32 -0400 (Mon, 31 Mar 2025) EndedAt: 2025-03-31 16:00:57 -0400 (Mon, 31 Mar 2025) EllapsedTime: 24.5 seconds RetCode: 0 Status: OK