Package: protGear Version: 1.10.0 Command: /home/biocbuild/bbs-3.20-bioc/R/bin/R CMD build --keep-empty-dirs --no-resave-data --md5 protGear StartedAt: 2025-03-31 18:36:55 -0400 (Mon, 31 Mar 2025) EndedAt: 2025-03-31 18:37:55 -0400 (Mon, 31 Mar 2025) EllapsedTime: 60.1 seconds RetCode: 0 Status: OK PackageFile: protGear_1.10.0.tar.gz PackageFileSize: 4.748 MiB