Package: progeny Version: 1.28.0 Command: /Library/Frameworks/R.framework/Resources/bin/R CMD build --keep-empty-dirs --no-resave-data progeny StartedAt: 2025-04-01 05:24:43 -0400 (Tue, 01 Apr 2025) EndedAt: 2025-04-01 05:25:06 -0400 (Tue, 01 Apr 2025) EllapsedTime: 22.9 seconds RetCode: 0 Status: OK PackageFile: progeny_1.28.0.tar.gz PackageFileSize: 10.15 MiB