Package: procoil Version: 2.34.0 Command: /home/biocbuild/R/R/bin/R CMD INSTALL procoil StartedAt: 2025-03-31 20:22:57 -0000 (Mon, 31 Mar 2025) EndedAt: 2025-03-31 20:23:35 -0000 (Mon, 31 Mar 2025) EllapsedTime: 37.3 seconds RetCode: 0 Status: OK