Package: procoil Version: 2.34.0 Command: F:\biocbuild\bbs-3.20-bioc\R\bin\R.exe CMD INSTALL procoil StartedAt: 2025-03-31 15:47:22 -0400 (Mon, 31 Mar 2025) EndedAt: 2025-03-31 15:48:05 -0400 (Mon, 31 Mar 2025) EllapsedTime: 43.3 seconds RetCode: 0 Status: OK