Package: procoil Version: 2.34.0 Command: chmod a+r procoil -R && F:\biocbuild\bbs-3.20-bioc\R\bin\R.exe CMD build --keep-empty-dirs --no-resave-data procoil StartedAt: 2025-03-31 21:08:43 -0400 (Mon, 31 Mar 2025) EndedAt: 2025-03-31 21:09:30 -0400 (Mon, 31 Mar 2025) EllapsedTime: 47.8 seconds RetCode: 0 Status: OK PackageFile: procoil_2.34.0.tar.gz PackageFileSize: 1.264 MiB