Package: procoil Version: 2.34.0 Command: /Library/Frameworks/R.framework/Resources/bin/R CMD INSTALL procoil StartedAt: 2025-03-31 15:17:39 -0400 (Mon, 31 Mar 2025) EndedAt: 2025-03-31 15:18:42 -0400 (Mon, 31 Mar 2025) EllapsedTime: 62.8 seconds RetCode: 0 Status: OK