Package: procoil Version: 2.34.0 Command: rm -rf procoil.buildbin-libdir && mkdir procoil.buildbin-libdir && /Users/biocbuild/BBS/utils/build-universal.sh procoil_2.34.0.tar.gz /Library/Frameworks/R.framework/Resources/bin/R procoil.buildbin-libdir StartedAt: 2025-04-01 12:29:20 -0400 (Tue, 01 Apr 2025) EndedAt: 2025-04-01 12:30:23 -0400 (Tue, 01 Apr 2025) EllapsedTime: 63.7 seconds RetCode: 0 Status: OK PackageFile: procoil_2.34.0.tgz PackageFileSize: 1.591 MiB