Package: proDA Version: 1.20.0 Command: /home/biocbuild/R/R/bin/R CMD INSTALL proDA StartedAt: 2025-03-31 20:20:35 -0000 (Mon, 31 Mar 2025) EndedAt: 2025-03-31 20:21:01 -0000 (Mon, 31 Mar 2025) EllapsedTime: 26.5 seconds RetCode: 0 Status: OK