Package: proDA Version: 1.20.0 Command: chmod a+r proDA -R && F:\biocbuild\bbs-3.20-bioc\R\bin\R.exe CMD build --keep-empty-dirs --no-resave-data proDA StartedAt: 2025-03-31 21:08:47 -0400 (Mon, 31 Mar 2025) EndedAt: 2025-03-31 21:10:38 -0400 (Mon, 31 Mar 2025) EllapsedTime: 111.5 seconds RetCode: 0 Status: OK PackageFile: proDA_1.20.0.tar.gz PackageFileSize: 1.123 MiB