Package: proDA Version: 1.20.0 Command: rm -rf proDA.buildbin-libdir && mkdir proDA.buildbin-libdir && /Users/biocbuild/BBS/utils/build-universal.sh proDA_1.20.0.tar.gz /Library/Frameworks/R.framework/Resources/bin/R proDA.buildbin-libdir StartedAt: 2025-04-01 12:29:21 -0400 (Tue, 01 Apr 2025) EndedAt: 2025-04-01 12:30:09 -0400 (Tue, 01 Apr 2025) EllapsedTime: 48.4 seconds RetCode: 0 Status: OK PackageFile: proDA_1.20.0.tgz PackageFileSize: 1.207 MiB