Package: proDA Version: 1.20.0 Command: /Library/Frameworks/R.framework/Resources/bin/R CMD build --keep-empty-dirs --no-resave-data proDA StartedAt: 2025-04-01 05:24:03 -0400 (Tue, 01 Apr 2025) EndedAt: 2025-04-01 05:25:37 -0400 (Tue, 01 Apr 2025) EllapsedTime: 93.5 seconds RetCode: 0 Status: OK PackageFile: proDA_1.20.0.tar.gz PackageFileSize: 1.251 MiB