Package: proBAMr Version: 1.40.0 Command: rm -rf proBAMr.buildbin-libdir && mkdir proBAMr.buildbin-libdir && /Users/biocbuild/BBS/utils/build-universal.sh proBAMr_1.40.0.tar.gz /Library/Frameworks/R.framework/Resources/bin/R proBAMr.buildbin-libdir StartedAt: 2025-04-02 15:41:41 -0400 (Wed, 02 Apr 2025) EndedAt: 2025-04-02 15:42:27 -0400 (Wed, 02 Apr 2025) EllapsedTime: 46.5 seconds RetCode: 0 Status: OK PackageFile: proBAMr_1.40.0.tgz PackageFileSize: 525.2 KiB