Package: proActiv Version: 1.16.0 Command: /home/biocbuild/R/R/bin/R CMD INSTALL proActiv StartedAt: 2025-03-31 21:06:25 -0000 (Mon, 31 Mar 2025) EndedAt: 2025-03-31 21:07:15 -0000 (Mon, 31 Mar 2025) EllapsedTime: 50.2 seconds RetCode: 0 Status: OK