Package: primirTSS Version: 1.24.0 Command: chmod a+r primirTSS -R && F:\biocbuild\bbs-3.20-bioc\R\bin\R.exe CMD build --keep-empty-dirs --no-resave-data primirTSS StartedAt: 2025-03-31 21:08:05 -0400 (Mon, 31 Mar 2025) EndedAt: 2025-03-31 21:09:53 -0400 (Mon, 31 Mar 2025) EllapsedTime: 107.2 seconds RetCode: 0 Status: OK PackageFile: primirTSS_1.24.0.tar.gz PackageFileSize: 3.662 MiB