Package: primirTSS Version: 1.24.0 Command: /Library/Frameworks/R.framework/Resources/bin/R CMD INSTALL primirTSS StartedAt: 2025-03-31 16:00:44 -0400 (Mon, 31 Mar 2025) EndedAt: 2025-03-31 16:02:08 -0400 (Mon, 31 Mar 2025) EllapsedTime: 83.8 seconds RetCode: 0 Status: OK