Package: primirTSS Version: 1.24.0 Command: /Library/Frameworks/R.framework/Resources/bin/R CMD INSTALL primirTSS StartedAt: 2025-03-31 16:53:39 -0400 (Mon, 31 Mar 2025) EndedAt: 2025-03-31 16:54:27 -0400 (Mon, 31 Mar 2025) EllapsedTime: 47.9 seconds RetCode: 0 Status: OK