Package: primirTSS Version: 1.24.0 Command: /Library/Frameworks/R.framework/Resources/bin/R CMD check --install=check:primirTSS.install-out.txt --library=/Library/Frameworks/R.framework/Resources/library --no-vignettes --timings primirTSS_1.24.0.tar.gz StartedAt: 2025-04-02 04:37:29 -0400 (Wed, 02 Apr 2025) EndedAt: 2025-04-02 04:42:19 -0400 (Wed, 02 Apr 2025) EllapsedTime: 289.7 seconds RetCode: 0 Status: WARNINGS CheckDir: primirTSS.Rcheck Warnings: 1